BEGIN:VCALENDAR
VERSION:2.0
PRODID:-//Northway Parish Council//Meeting Calendar//EN
CALSCALE:GREGORIAN
METHOD:PUBLISH
BEGIN:VEVENT
UID:71307-20210728@northwayparishcouncil.gov.uk
DTSTAMP:20260419T194742Z
DTSTART;VALUE=DATE:20210728
DTEND;VALUE=DATE:20210729
SUMMARY:Finance Committee &#8211\\; 28 July 2021
DESCRIPTION:Finance Committee Meeting\nView details: https://northwayparishcouncil.gov.uk/meetings/finance-committee-28-july-2021/
URL:https://northwayparishcouncil.gov.uk/meetings/finance-committee-28-july-2021/
END:VEVENT
END:VCALENDAR
