BEGIN:VCALENDAR
VERSION:2.0
PRODID:-//Northway Parish Council//Meeting Calendar//EN
CALSCALE:GREGORIAN
METHOD:PUBLISH
BEGIN:VEVENT
UID:71346-20191023@northwayparishcouncil.gov.uk
DTSTAMP:20260419T202949Z
DTSTART;VALUE=DATE:20191023
DTEND;VALUE=DATE:20191024
SUMMARY:Staffing Committee &#8211\\; 23 October 2019
DESCRIPTION:Staffing Committee Meeting\nView details: https://northwayparishcouncil.gov.uk/meetings/staffing-committee-23-october-2019/
URL:https://northwayparishcouncil.gov.uk/meetings/staffing-committee-23-october-2019/
END:VEVENT
END:VCALENDAR
