BEGIN:VCALENDAR
VERSION:2.0
PRODID:-//Northway Parish Council//Meeting Calendar//EN
CALSCALE:GREGORIAN
METHOD:PUBLISH
BEGIN:VEVENT
UID:71349-20200113@northwayparishcouncil.gov.uk
DTSTAMP:20260419T220218Z
DTSTART;VALUE=DATE:20200113
DTEND;VALUE=DATE:20200114
SUMMARY:Staffing Committee &#8211\\; 13 January 2020
DESCRIPTION:Staffing Committee Meeting\nView details: https://northwayparishcouncil.gov.uk/meetings/staffing-committee-13-january-2020/
URL:https://northwayparishcouncil.gov.uk/meetings/staffing-committee-13-january-2020/
END:VEVENT
END:VCALENDAR
