BEGIN:VCALENDAR
VERSION:2.0
PRODID:-//Northway Parish Council//Meeting Calendar//EN
CALSCALE:GREGORIAN
METHOD:PUBLISH
BEGIN:VEVENT
UID:71352-20200122@northwayparishcouncil.gov.uk
DTSTAMP:20260419T220300Z
DTSTART;VALUE=DATE:20200122
DTEND;VALUE=DATE:20200123
SUMMARY:Staffing Committee &#8211\\; 22 January 2020
DESCRIPTION:Staffing Committee Meeting\nView details: https://northwayparishcouncil.gov.uk/meetings/staffing-committee-22-january-2020/
URL:https://northwayparishcouncil.gov.uk/meetings/staffing-committee-22-january-2020/
END:VEVENT
END:VCALENDAR
