BEGIN:VCALENDAR
VERSION:2.0
PRODID:-//Northway Parish Council//Meeting Calendar//EN
CALSCALE:GREGORIAN
METHOD:PUBLISH
BEGIN:VEVENT
UID:71358-20200603@northwayparishcouncil.gov.uk
DTSTAMP:20260419T221640Z
DTSTART;VALUE=DATE:20200603
DTEND;VALUE=DATE:20200604
SUMMARY:Staffing Committee &#8211\\; 3 June 2020
DESCRIPTION:Staffing Committee Meeting\nView details: https://northwayparishcouncil.gov.uk/meetings/staffing-committee-3-june-2020/
URL:https://northwayparishcouncil.gov.uk/meetings/staffing-committee-3-june-2020/
END:VEVENT
END:VCALENDAR
