BEGIN:VCALENDAR
VERSION:2.0
PRODID:-//Northway Parish Council//Meeting Calendar//EN
CALSCALE:GREGORIAN
METHOD:PUBLISH
BEGIN:VEVENT
UID:71361-20200819@northwayparishcouncil.gov.uk
DTSTAMP:20260419T233817Z
DTSTART;VALUE=DATE:20200819
DTEND;VALUE=DATE:20200820
SUMMARY:Staffing Committee &#8211\\; 19 August 2020
DESCRIPTION:Staffing Committee Meeting\nView details: https://northwayparishcouncil.gov.uk/meetings/staffing-committee-19-august-2020/
URL:https://northwayparishcouncil.gov.uk/meetings/staffing-committee-19-august-2020/
END:VEVENT
END:VCALENDAR
