BEGIN:VCALENDAR
VERSION:2.0
PRODID:-//Northway Parish Council//Meeting Calendar//EN
CALSCALE:GREGORIAN
METHOD:PUBLISH
BEGIN:VEVENT
UID:71367-20210324@northwayparishcouncil.gov.uk
DTSTAMP:20260419T232608Z
DTSTART;VALUE=DATE:20210324
DTEND;VALUE=DATE:20210325
SUMMARY:Staffing Committee &#8211\\; 24 March 2021
DESCRIPTION:Staffing Committee Meeting\nView details: https://northwayparishcouncil.gov.uk/meetings/staffing-committee-24-march-2021/
URL:https://northwayparishcouncil.gov.uk/meetings/staffing-committee-24-march-2021/
END:VEVENT
END:VCALENDAR
