BEGIN:VCALENDAR
VERSION:2.0
PRODID:-//Northway Parish Council//Meeting Calendar//EN
CALSCALE:GREGORIAN
METHOD:PUBLISH
BEGIN:VEVENT
UID:71370-20210726@northwayparishcouncil.gov.uk
DTSTAMP:20260419T233727Z
DTSTART;VALUE=DATE:20210726
DTEND;VALUE=DATE:20210727
SUMMARY:Staffing Committee &#8211\\; 26 July 2021 (Cancelled)
DESCRIPTION:Staffing Committee Meeting\nView details: https://northwayparishcouncil.gov.uk/meetings/staffing-committee-26-july-2021-cancelled/
URL:https://northwayparishcouncil.gov.uk/meetings/staffing-committee-26-july-2021-cancelled/
END:VEVENT
END:VCALENDAR
