BEGIN:VCALENDAR
VERSION:2.0
PRODID:-//Northway Parish Council//Meeting Calendar//EN
CALSCALE:GREGORIAN
METHOD:PUBLISH
BEGIN:VEVENT
UID:71375-20210929@northwayparishcouncil.gov.uk
DTSTAMP:20260420T005936Z
DTSTART;VALUE=DATE:20210929
DTEND;VALUE=DATE:20210930
SUMMARY:Staffing Committee &#8211\\; 29 September 2021
DESCRIPTION:Staffing Committee Meeting\nView details: https://northwayparishcouncil.gov.uk/meetings/staffing-committee-29-september-2021/
URL:https://northwayparishcouncil.gov.uk/meetings/staffing-committee-29-september-2021/
END:VEVENT
END:VCALENDAR
