BEGIN:VCALENDAR
VERSION:2.0
PRODID:-//Northway Parish Council//Meeting Calendar//EN
CALSCALE:GREGORIAN
METHOD:PUBLISH
BEGIN:VEVENT
UID:71378-20220406@northwayparishcouncil.gov.uk
DTSTAMP:20260420T010552Z
DTSTART;VALUE=DATE:20220406
DTEND;VALUE=DATE:20220407
SUMMARY:Staffing Committee &#8211\\; 6 April 2022
DESCRIPTION:Staffing Committee Meeting\nView details: https://northwayparishcouncil.gov.uk/meetings/staffing-committee-6-april-2022/
URL:https://northwayparishcouncil.gov.uk/meetings/staffing-committee-6-april-2022/
END:VEVENT
END:VCALENDAR
