BEGIN:VCALENDAR
VERSION:2.0
PRODID:-//Northway Parish Council//Meeting Calendar//EN
CALSCALE:GREGORIAN
METHOD:PUBLISH
BEGIN:VEVENT
UID:71381-20220622@northwayparishcouncil.gov.uk
DTSTAMP:20260420T005951Z
DTSTART;VALUE=DATE:20220622
DTEND;VALUE=DATE:20220623
SUMMARY:Staffing Committee &#8211\\; 22 June 2022
DESCRIPTION:Staffing Committee Meeting\nView details: https://northwayparishcouncil.gov.uk/meetings/staffing-committee-22-june-2022/
URL:https://northwayparishcouncil.gov.uk/meetings/staffing-committee-22-june-2022/
END:VEVENT
END:VCALENDAR
