BEGIN:VCALENDAR
VERSION:2.0
PRODID:-//Northway Parish Council//Meeting Calendar//EN
CALSCALE:GREGORIAN
METHOD:PUBLISH
BEGIN:VEVENT
UID:71388-20230405@northwayparishcouncil.gov.uk
DTSTAMP:20260419T235233Z
DTSTART;VALUE=DATE:20230405
DTEND;VALUE=DATE:20230406
SUMMARY:Staffing Committee &#8211\\; 5 April 2023
DESCRIPTION:Staffing Committee Meeting\nView details: https://northwayparishcouncil.gov.uk/meetings/staffing-committee-5-april-2023/
URL:https://northwayparishcouncil.gov.uk/meetings/staffing-committee-5-april-2023/
END:VEVENT
END:VCALENDAR
