BEGIN:VCALENDAR
VERSION:2.0
PRODID:-//Northway Parish Council//Meeting Calendar//EN
CALSCALE:GREGORIAN
METHOD:PUBLISH
BEGIN:VEVENT
UID:71391-20231004@northwayparishcouncil.gov.uk
DTSTAMP:20260419T221640Z
DTSTART;VALUE=DATE:20231004
DTEND;VALUE=DATE:20231005
SUMMARY:Staffing Committee &#8211\\; 4 October 2023
DESCRIPTION:Staffing Committee Meeting\nView details: https://northwayparishcouncil.gov.uk/meetings/staffing-committee-4-october-2023/
URL:https://northwayparishcouncil.gov.uk/meetings/staffing-committee-4-october-2023/
END:VEVENT
END:VCALENDAR
