BEGIN:VCALENDAR
VERSION:2.0
PRODID:-//Northway Parish Council//Meeting Calendar//EN
CALSCALE:GREGORIAN
METHOD:PUBLISH
BEGIN:VEVENT
UID:71428-20240124@northwayparishcouncil.gov.uk
DTSTAMP:20260420T023527Z
DTSTART;VALUE=DATE:20240124
DTEND;VALUE=DATE:20240125
SUMMARY:Finance Committee &#8211\\; 24 January 2024
DESCRIPTION:Finance Committee Meeting\nView details: https://northwayparishcouncil.gov.uk/meetings/meeting-name-here/
URL:https://northwayparishcouncil.gov.uk/meetings/meeting-name-here/
END:VEVENT
END:VCALENDAR
