BEGIN:VCALENDAR
VERSION:2.0
PRODID:-//Northway Parish Council//Meeting Calendar//EN
CALSCALE:GREGORIAN
METHOD:PUBLISH
BEGIN:VEVENT
UID:71451-20240724@northwayparishcouncil.gov.uk
DTSTAMP:20260420T055614Z
DTSTART;VALUE=DATE:20240724
DTEND;VALUE=DATE:20240725
SUMMARY:Finance Committee &#8211\\; 24 July 2024
DESCRIPTION:Finance Committee Meeting\nView details: https://northwayparishcouncil.gov.uk/meetings/finance-committee-24-july-2024/
URL:https://northwayparishcouncil.gov.uk/meetings/finance-committee-24-july-2024/
END:VEVENT
END:VCALENDAR
