BEGIN:VCALENDAR
VERSION:2.0
PRODID:-//Northway Parish Council//Meeting Calendar//EN
CALSCALE:GREGORIAN
METHOD:PUBLISH
BEGIN:VEVENT
UID:71561-20240522@northwayparishcouncil.gov.uk
DTSTAMP:20260419T204811Z
DTSTART;VALUE=DATE:20240522
DTEND;VALUE=DATE:20240523
SUMMARY:Staffing Committee &#8211\\; 22 May 2024
DESCRIPTION:Staffing Committee Meeting\nView details: https://northwayparishcouncil.gov.uk/meetings/staffing-committee-22-may-2024/
URL:https://northwayparishcouncil.gov.uk/meetings/staffing-committee-22-may-2024/
END:VEVENT
END:VCALENDAR
