BEGIN:VCALENDAR
VERSION:2.0
PRODID:-//Northway Parish Council//Meeting Calendar//EN
CALSCALE:GREGORIAN
METHOD:PUBLISH
BEGIN:VEVENT
UID:71786-20240814@northwayparishcouncil.gov.uk
DTSTAMP:20260419T184324Z
DTSTART;VALUE=DATE:20240814
DTEND;VALUE=DATE:20240815
SUMMARY:Extraordinary Council Meeting &#8211\\; 14 August 2024
DESCRIPTION:Full Council Meeting\nView details: https://northwayparishcouncil.gov.uk/meetings/extraordinary-council-meeting-14-august-2024/
URL:https://northwayparishcouncil.gov.uk/meetings/extraordinary-council-meeting-14-august-2024/
END:VEVENT
END:VCALENDAR
