BEGIN:VCALENDAR
VERSION:2.0
PRODID:-//Northway Parish Council//Meeting Calendar//EN
CALSCALE:GREGORIAN
METHOD:PUBLISH
BEGIN:VEVENT
UID:71974-20240619@northwayparishcouncil.gov.uk
DTSTAMP:20260419T190702Z
DTSTART;VALUE=DATE:20240619
DTEND;VALUE=DATE:20240620
SUMMARY:Staffing Committee &#8211\\; 19 June 2024 (Cancelled)
DESCRIPTION:Staffing Committee Meeting\nView details: https://northwayparishcouncil.gov.uk/meetings/staffing-committee-19-june-2024/
URL:https://northwayparishcouncil.gov.uk/meetings/staffing-committee-19-june-2024/
END:VEVENT
END:VCALENDAR
