BEGIN:VCALENDAR
VERSION:2.0
PRODID:-//Northway Parish Council//Meeting Calendar//EN
CALSCALE:GREGORIAN
METHOD:PUBLISH
BEGIN:VEVENT
UID:72207-20241120@northwayparishcouncil.gov.uk
DTSTAMP:20260419T213916Z
DTSTART;VALUE=DATE:20241120
DTEND;VALUE=DATE:20241121
SUMMARY:Planning Committee &#8211\\; 20 November 2024
DESCRIPTION:Planning Committee Meeting\nView details: https://northwayparishcouncil.gov.uk/meetings/planning-committee-20-november-2024/
URL:https://northwayparishcouncil.gov.uk/meetings/planning-committee-20-november-2024/
END:VEVENT
END:VCALENDAR
