BEGIN:VCALENDAR
VERSION:2.0
PRODID:-//Northway Parish Council//Meeting Calendar//EN
CALSCALE:GREGORIAN
METHOD:PUBLISH
BEGIN:VEVENT
UID:72474-20241218@northwayparishcouncil.gov.uk
DTSTAMP:20260419T200728Z
DTSTART;VALUE=DATE:20241218
DTEND;VALUE=DATE:20241219
SUMMARY:Planning Committee &#8211\\; 18 December 2024
DESCRIPTION:Planning Committee Meeting\nView details: https://northwayparishcouncil.gov.uk/meetings/planning-committee-18-december-2024/
URL:https://northwayparishcouncil.gov.uk/meetings/planning-committee-18-december-2024/
END:VEVENT
END:VCALENDAR
