BEGIN:VCALENDAR
VERSION:2.0
PRODID:-//Northway Parish Council//Meeting Calendar//EN
CALSCALE:GREGORIAN
METHOD:PUBLISH
BEGIN:VEVENT
UID:73916-20240327@northwayparishcouncil.gov.uk
DTSTAMP:20260419T164020Z
DTSTART;VALUE=DATE:20240327
DTEND;VALUE=DATE:20240328
SUMMARY:Annual Public Meeting (Parish Assembly) &#8211\\; 27 March 2024
DESCRIPTION:Parish Assembly Meeting\nView details: https://northwayparishcouncil.gov.uk/meetings/annual-public-meeting-parish-assembly-27-march-2024/
URL:https://northwayparishcouncil.gov.uk/meetings/annual-public-meeting-parish-assembly-27-march-2024/
END:VEVENT
END:VCALENDAR
