BEGIN:VCALENDAR
VERSION:2.0
PRODID:-//Northway Parish Council//Meeting Calendar//EN
CALSCALE:GREGORIAN
METHOD:PUBLISH
BEGIN:VEVENT
UID:74033-20250326@northwayparishcouncil.gov.uk
DTSTAMP:20260419T164619Z
DTSTART;VALUE=DATE:20250326
DTEND;VALUE=DATE:20250327
SUMMARY:Annual Public Meeting (Parish Assembly) &#8211\\; 26 March 2025
DESCRIPTION:Parish Assembly Meeting\nView details: https://northwayparishcouncil.gov.uk/meetings/annual-public-meeting-parish-assembly-26-march-2025-2/
URL:https://northwayparishcouncil.gov.uk/meetings/annual-public-meeting-parish-assembly-26-march-2025-2/
END:VEVENT
END:VCALENDAR
