BEGIN:VCALENDAR
VERSION:2.0
PRODID:-//Northway Parish Council//Meeting Calendar//EN
CALSCALE:GREGORIAN
METHOD:PUBLISH
BEGIN:VEVENT
UID:74244-20250409@northwayparishcouncil.gov.uk
DTSTAMP:20260419T153911Z
DTSTART;VALUE=DATE:20250409
DTEND;VALUE=DATE:20250410
SUMMARY:Council Meeting &#8211\\; 9 April 2025
DESCRIPTION:Full Council Meeting\nView details: https://northwayparishcouncil.gov.uk/meetings/council-meeting-9-april-2025/
URL:https://northwayparishcouncil.gov.uk/meetings/council-meeting-9-april-2025/
END:VEVENT
END:VCALENDAR
