BEGIN:VCALENDAR
VERSION:2.0
PRODID:-//Northway Parish Council//Meeting Calendar//EN
CALSCALE:GREGORIAN
METHOD:PUBLISH
BEGIN:VEVENT
UID:74247-20250319@northwayparishcouncil.gov.uk
DTSTAMP:20260419T184513Z
DTSTART;VALUE=DATE:20250319
DTEND;VALUE=DATE:20250320
SUMMARY:Planning Committee &#8211\\; 19 March 2025
DESCRIPTION:Planning Committee Meeting\nView details: https://northwayparishcouncil.gov.uk/meetings/planning-committee-19-march-2025/
URL:https://northwayparishcouncil.gov.uk/meetings/planning-committee-19-march-2025/
END:VEVENT
END:VCALENDAR
