BEGIN:VCALENDAR
VERSION:2.0
PRODID:-//Northway Parish Council//Meeting Calendar//EN
CALSCALE:GREGORIAN
METHOD:PUBLISH
BEGIN:VEVENT
UID:74251-20250416@northwayparishcouncil.gov.uk
DTSTAMP:20260419T184637Z
DTSTART;VALUE=DATE:20250416
DTEND;VALUE=DATE:20250417
SUMMARY:Planning Committee &#8211\\; 16 April 2025
DESCRIPTION:Planning Committee Meeting\nView details: https://northwayparishcouncil.gov.uk/meetings/planning-committee-16-april-2025/
URL:https://northwayparishcouncil.gov.uk/meetings/planning-committee-16-april-2025/
END:VEVENT
END:VCALENDAR
