BEGIN:VCALENDAR
VERSION:2.0
PRODID:-//Northway Parish Council//Meeting Calendar//EN
CALSCALE:GREGORIAN
METHOD:PUBLISH
BEGIN:VEVENT
UID:74367-20250514@northwayparishcouncil.gov.uk
DTSTAMP:20260419T152525Z
DTSTART;VALUE=DATE:20250514
DTEND;VALUE=DATE:20250515
SUMMARY:Council Meeting &#8211\\; 14 May 2025
DESCRIPTION:Full Council Meeting\nView details: https://northwayparishcouncil.gov.uk/meetings/council-meeting-14-may-2025/
URL:https://northwayparishcouncil.gov.uk/meetings/council-meeting-14-may-2025/
END:VEVENT
END:VCALENDAR
