BEGIN:VCALENDAR
VERSION:2.0
PRODID:-//Northway Parish Council//Meeting Calendar//EN
CALSCALE:GREGORIAN
METHOD:PUBLISH
BEGIN:VEVENT
UID:74376-20250521@northwayparishcouncil.gov.uk
DTSTAMP:20260419T170112Z
DTSTART;VALUE=DATE:20250521
DTEND;VALUE=DATE:20250522
SUMMARY:Planning Committee &#8211\\; 21 May 2025
DESCRIPTION:Planning Committee Meeting\nView details: https://northwayparishcouncil.gov.uk/meetings/planning-committee-21-may-2025/
URL:https://northwayparishcouncil.gov.uk/meetings/planning-committee-21-may-2025/
END:VEVENT
END:VCALENDAR
