BEGIN:VCALENDAR
VERSION:2.0
PRODID:-//Northway Parish Council//Meeting Calendar//EN
CALSCALE:GREGORIAN
METHOD:PUBLISH
BEGIN:VEVENT
UID:74445-20250611@northwayparishcouncil.gov.uk
DTSTAMP:20260419T153015Z
DTSTART;VALUE=DATE:20250611
DTEND;VALUE=DATE:20250612
SUMMARY:Council Meeting &#8211\\; 11 June 2025
DESCRIPTION:Full Council Meeting\nView details: https://northwayparishcouncil.gov.uk/meetings/full-council-meeting-11-june-2025/
URL:https://northwayparishcouncil.gov.uk/meetings/full-council-meeting-11-june-2025/
END:VEVENT
END:VCALENDAR
