BEGIN:VCALENDAR
VERSION:2.0
PRODID:-//Northway Parish Council//Meeting Calendar//EN
CALSCALE:GREGORIAN
METHOD:PUBLISH
BEGIN:VEVENT
UID:74489-20250709@northwayparishcouncil.gov.uk
DTSTAMP:20260419T154242Z
DTSTART;VALUE=DATE:20250709
DTEND;VALUE=DATE:20250710
SUMMARY:Council Meeting &#8211\\; 9 July 2025
DESCRIPTION:Full Council Meeting\nView details: https://northwayparishcouncil.gov.uk/meetings/full-council-meeting-9-july-2025/
URL:https://northwayparishcouncil.gov.uk/meetings/full-council-meeting-9-july-2025/
END:VEVENT
END:VCALENDAR
