BEGIN:VCALENDAR
VERSION:2.0
PRODID:-//Northway Parish Council//Meeting Calendar//EN
CALSCALE:GREGORIAN
METHOD:PUBLISH
BEGIN:VEVENT
UID:74498-20251015@northwayparishcouncil.gov.uk
DTSTAMP:20260419T153216Z
DTSTART;VALUE=DATE:20251015
DTEND;VALUE=DATE:20251016
SUMMARY:Planning Committee &#8211\\; 15 October 2025
DESCRIPTION:Planning Committee Meeting\nView details: https://northwayparishcouncil.gov.uk/meetings/planning-committee-15-october-2025/
URL:https://northwayparishcouncil.gov.uk/meetings/planning-committee-15-october-2025/
END:VEVENT
END:VCALENDAR
