BEGIN:VCALENDAR
VERSION:2.0
PRODID:-//Northway Parish Council//Meeting Calendar//EN
CALSCALE:GREGORIAN
METHOD:PUBLISH
BEGIN:VEVENT
UID:74499-20251119@northwayparishcouncil.gov.uk
DTSTAMP:20260419T153043Z
DTSTART;VALUE=DATE:20251119
DTEND;VALUE=DATE:20251120
SUMMARY:Planning Committee &#8211\\; 19 November 2025
DESCRIPTION:Planning Committee Meeting\nView details: https://northwayparishcouncil.gov.uk/meetings/planning-committee-19-november-2025/
URL:https://northwayparishcouncil.gov.uk/meetings/planning-committee-19-november-2025/
END:VEVENT
END:VCALENDAR
