BEGIN:VCALENDAR
VERSION:2.0
PRODID:-//Northway Parish Council//Meeting Calendar//EN
CALSCALE:GREGORIAN
METHOD:PUBLISH
BEGIN:VEVENT
UID:74500-20251217@northwayparishcouncil.gov.uk
DTSTAMP:20260419T152618Z
DTSTART;VALUE=DATE:20251217
DTEND;VALUE=DATE:20251218
SUMMARY:Planning Committee &#8211\\; 17 December 2025
DESCRIPTION:Planning Committee Meeting\nView details: https://northwayparishcouncil.gov.uk/meetings/planning-committee-17-december-2025/
URL:https://northwayparishcouncil.gov.uk/meetings/planning-committee-17-december-2025/
END:VEVENT
END:VCALENDAR
