BEGIN:VCALENDAR
VERSION:2.0
PRODID:-//Northway Parish Council//Meeting Calendar//EN
CALSCALE:GREGORIAN
METHOD:PUBLISH
BEGIN:VEVENT
UID:74504-20251210@northwayparishcouncil.gov.uk
DTSTAMP:20260419T134304Z
DTSTART;VALUE=DATE:20251210
DTEND;VALUE=DATE:20251211
SUMMARY:Council Meeting &#8211\\; 10 December 2025
DESCRIPTION:Full Council Meeting\nView details: https://northwayparishcouncil.gov.uk/meetings/full-council-meeting-10-december-2025/
URL:https://northwayparishcouncil.gov.uk/meetings/full-council-meeting-10-december-2025/
END:VEVENT
END:VCALENDAR
