BEGIN:VCALENDAR
VERSION:2.0
PRODID:-//Northway Parish Council//Meeting Calendar//EN
CALSCALE:GREGORIAN
METHOD:PUBLISH
BEGIN:VEVENT
UID:74505-20250723@northwayparishcouncil.gov.uk
DTSTAMP:20260419T154106Z
DTSTART;VALUE=DATE:20250723
DTEND;VALUE=DATE:20250724
SUMMARY:Finance Committee &#8211\\; 23 July 2025 &#8211\\; CANCELLED
DESCRIPTION:Finance Committee Meeting\nView details: https://northwayparishcouncil.gov.uk/meetings/finance-committee-23-july-2025/
URL:https://northwayparishcouncil.gov.uk/meetings/finance-committee-23-july-2025/
END:VEVENT
END:VCALENDAR
