BEGIN:VCALENDAR
VERSION:2.0
PRODID:-//Northway Parish Council//Meeting Calendar//EN
CALSCALE:GREGORIAN
METHOD:PUBLISH
BEGIN:VEVENT
UID:74545-20250730@northwayparishcouncil.gov.uk
DTSTAMP:20260419T134413Z
DTSTART;VALUE=DATE:20250730
DTEND;VALUE=DATE:20250731
SUMMARY:Finance Committee &#8211\\; 30 July 2025
DESCRIPTION:Finance Committee Meeting\nView details: https://northwayparishcouncil.gov.uk/meetings/finance-committee-30-july-2025/
URL:https://northwayparishcouncil.gov.uk/meetings/finance-committee-30-july-2025/
END:VEVENT
END:VCALENDAR
