BEGIN:VCALENDAR
VERSION:2.0
PRODID:-//Northway Parish Council//Meeting Calendar//EN
CALSCALE:GREGORIAN
METHOD:PUBLISH
BEGIN:VEVENT
UID:74681-20250910@northwayparishcouncil.gov.uk
DTSTAMP:20260419T134402Z
DTSTART;VALUE=DATE:20250910
DTEND;VALUE=DATE:20250911
SUMMARY:Council Meeting &#8211\\; 10 September 2025
DESCRIPTION:Full Council Meeting\nView details: https://northwayparishcouncil.gov.uk/meetings/council-meeting-10-september-2025/
URL:https://northwayparishcouncil.gov.uk/meetings/council-meeting-10-september-2025/
END:VEVENT
END:VCALENDAR
