BEGIN:VCALENDAR
VERSION:2.0
PRODID:-//Northway Parish Council//Meeting Calendar//EN
CALSCALE:GREGORIAN
METHOD:PUBLISH
BEGIN:VEVENT
UID:74773-20250910@northwayparishcouncil.gov.uk
DTSTAMP:20260419T172630Z
DTSTART;VALUE=DATE:20250910
DTEND;VALUE=DATE:20250911
SUMMARY:Staffing Committee &#8211\\; 10 September 2025
DESCRIPTION:Staffing Committee Meeting\nView details: https://northwayparishcouncil.gov.uk/meetings/staffing-committee-10-september-2025/
URL:https://northwayparishcouncil.gov.uk/meetings/staffing-committee-10-september-2025/
END:VEVENT
END:VCALENDAR
