BEGIN:VCALENDAR
VERSION:2.0
PRODID:-//Northway Parish Council//Meeting Calendar//EN
CALSCALE:GREGORIAN
METHOD:PUBLISH
BEGIN:VEVENT
UID:74821-20251029@northwayparishcouncil.gov.uk
DTSTAMP:20260419T121420Z
DTSTART;VALUE=DATE:20251029
DTEND;VALUE=DATE:20251030
SUMMARY:Finance Committee &#8211\\; 29 October 2025
DESCRIPTION:Finance Committee Meeting\nView details: https://northwayparishcouncil.gov.uk/meetings/finance-committee-29-october-2025/
URL:https://northwayparishcouncil.gov.uk/meetings/finance-committee-29-october-2025/
END:VEVENT
END:VCALENDAR
