BEGIN:VCALENDAR
VERSION:2.0
PRODID:-//Northway Parish Council//Meeting Calendar//EN
CALSCALE:GREGORIAN
METHOD:PUBLISH
BEGIN:VEVENT
UID:74840-20251112@northwayparishcouncil.gov.uk
DTSTAMP:20260419T170158Z
DTSTART;VALUE=DATE:20251112
DTEND;VALUE=DATE:20251113
SUMMARY:Staffing Committee &#8211\\; 12 November 2025
DESCRIPTION:Staffing Committee Meeting\nView details: https://northwayparishcouncil.gov.uk/meetings/staffing-committee-12-november-2025/
URL:https://northwayparishcouncil.gov.uk/meetings/staffing-committee-12-november-2025/
END:VEVENT
END:VCALENDAR
