BEGIN:VCALENDAR
VERSION:2.0
PRODID:-//Northway Parish Council//Meeting Calendar//EN
CALSCALE:GREGORIAN
METHOD:PUBLISH
BEGIN:VEVENT
UID:75018-20260311@northwayparishcouncil.gov.uk
DTSTAMP:20260419T125259Z
DTSTART;VALUE=DATE:20260311
DTEND;VALUE=DATE:20260312
SUMMARY:Council Meeting &#8211\\; 11 March 2026
DESCRIPTION:Full Council Meeting\nView details: https://northwayparishcouncil.gov.uk/meetings/council-meeting-11-march-2026/
URL:https://northwayparishcouncil.gov.uk/meetings/council-meeting-11-march-2026/
END:VEVENT
END:VCALENDAR
